BEGIN:VCALENDAR
VERSION:2.0
PRODID:-//Torbjörn Palmberg - ECPv6.15.20//NONSGML v1.0//EN
CALSCALE:GREGORIAN
METHOD:PUBLISH
X-WR-CALNAME:Torbjörn Palmberg
X-ORIGINAL-URL:https://torbjornpalmberg.se
X-WR-CALDESC:Händelser för Torbjörn Palmberg
REFRESH-INTERVAL;VALUE=DURATION:PT1H
X-Robots-Tag:noindex
X-PUBLISHED-TTL:PT1H
BEGIN:VTIMEZONE
TZID:Europe/Paris
BEGIN:DAYLIGHT
TZOFFSETFROM:+0100
TZOFFSETTO:+0200
TZNAME:CEST
DTSTART:20250330T010000
END:DAYLIGHT
BEGIN:STANDARD
TZOFFSETFROM:+0200
TZOFFSETTO:+0100
TZNAME:CET
DTSTART:20251026T010000
END:STANDARD
BEGIN:DAYLIGHT
TZOFFSETFROM:+0100
TZOFFSETTO:+0200
TZNAME:CEST
DTSTART:20260329T010000
END:DAYLIGHT
BEGIN:STANDARD
TZOFFSETFROM:+0200
TZOFFSETTO:+0100
TZNAME:CET
DTSTART:20261025T010000
END:STANDARD
BEGIN:DAYLIGHT
TZOFFSETFROM:+0100
TZOFFSETTO:+0200
TZNAME:CEST
DTSTART:20270328T010000
END:DAYLIGHT
BEGIN:STANDARD
TZOFFSETFROM:+0200
TZOFFSETTO:+0100
TZNAME:CET
DTSTART:20271031T010000
END:STANDARD
END:VTIMEZONE
BEGIN:VEVENT
DTSTART;VALUE=DATE:20260423
DTEND;VALUE=DATE:20260424
DTSTAMP:20260420T122943
CREATED:20250910T140539Z
LAST-MODIFIED:20260201T141434Z
UID:2869-1776902400-1776988799@torbjornpalmberg.se
SUMMARY:Bokrelease -Äntligen!
DESCRIPTION:Äntligen är det dags för min bok att släppas till försäljning.
URL:https://torbjornpalmberg.se/event/bokrelease-antligen/
ATTACH;FMTTYPE=image/png:https://torbjornpalmberg.se/wp-content/uploads/2025/09/bokrelease-skal.png
END:VEVENT
BEGIN:VEVENT
DTSTART;TZID=Europe/Paris:20260423T180000
DTEND;TZID=Europe/Paris:20260423T180000
DTSTAMP:20260420T122943
CREATED:20260115T144252Z
LAST-MODIFIED:20260305T120118Z
UID:4598-1776967200-1776967200@torbjornpalmberg.se
SUMMARY:Releasemingel på hemmaplan
DESCRIPTION:Den 23 april 2026 arrangeras ett releasemingel i Herrljunga. \nMer information om plats\, tid och program kommuniceras via personliga inbjudningar. \n👉 Prenumerera på nyhetsbrevet för att inte missa något.
URL:https://torbjornpalmberg.se/event/releaseparty-pa-hemmaplan/
LOCATION:Herrljunga
ATTACH;FMTTYPE=image/png:https://torbjornpalmberg.se/wp-content/uploads/2026/01/party2.png
END:VEVENT
BEGIN:VEVENT
DTSTART;TZID=Europe/Paris:20260424T150000
DTEND;TZID=Europe/Paris:20260424T170000
DTSTAMP:20260420T122943
CREATED:20260304T104242Z
LAST-MODIFIED:20260410T120044Z
UID:5056-1777042800-1777050000@torbjornpalmberg.se
SUMMARY:Boksignering – Akademibokhandeln Kalmar
DESCRIPTION:Idag finns jag på plats i Kalmar för att signera min debutdeckare ”Mord på Öland” – Välkommen!
URL:https://torbjornpalmberg.se/event/boksignering-av-mord-pa-oland/
LOCATION:Akademibokhandeln Kalmar\, Norra Långgatan 26\, Kalmar\, 39232\, Sweden
ATTACH;FMTTYPE=image/jpeg:https://torbjornpalmberg.se/wp-content/uploads/2026/03/33200352_2101719260041824_5838007410316279808_n.jpg
END:VEVENT
BEGIN:VEVENT
DTSTART;TZID=Europe/Paris:20260425T110000
DTEND;TZID=Europe/Paris:20260425T130000
DTSTAMP:20260420T122943
CREATED:20260304T105847Z
LAST-MODIFIED:20260306T135955Z
UID:5065-1777114800-1777122000@torbjornpalmberg.se
SUMMARY:Boksignering – Borgholms Bokhandel
DESCRIPTION:Idag finns jag på plats i Borgholm för att signera min debutdeckare ”Mord på Öland” – Välkommen!
URL:https://torbjornpalmberg.se/event/boksignering-borgholms-bokhandel/
LOCATION:Borgholms Bokhandel\, Östra kyrkogatan 15\, Borgholm\, 38731
ATTACH;FMTTYPE=image/png:https://torbjornpalmberg.se/wp-content/uploads/2026/03/Borgholms-bokhandel.png
END:VEVENT
BEGIN:VEVENT
DTSTART;TZID=Europe/Paris:20260425T150000
DTEND;TZID=Europe/Paris:20260425T170000
DTSTAMP:20260420T122943
CREATED:20260306T134002Z
LAST-MODIFIED:20260313T142619Z
UID:5078-1777129200-1777136400@torbjornpalmberg.se
SUMMARY:Boksignering – Naturbutiken i Stenåsa
DESCRIPTION:Idag finns jag på plats i Naturbutiken i Stenåsa på Öland för att signera min debutdeckare ”Mord på Öland” – Välkommen!
URL:https://torbjornpalmberg.se/event/boksignering-naturbutiken-i-stenasa-pa-oland/
LOCATION:Naturbutiken Stenåsa\, Lilla Brunneby 106\, Mörbylånga\, 38662
ATTACH;FMTTYPE=image/jpeg:https://torbjornpalmberg.se/wp-content/uploads/2026/03/naturbokhandeln-stenasa-768x537-1.jpg
END:VEVENT
BEGIN:VEVENT
DTSTART;TZID=Europe/Paris:20260425T173000
DTEND;TZID=Europe/Paris:20260425T183000
DTSTAMP:20260420T122943
CREATED:20260330T101642Z
LAST-MODIFIED:20260330T101736Z
UID:5121-1777138200-1777141800@torbjornpalmberg.se
SUMMARY:Boksignering – Gammalsbygårdens Gästgiveri
DESCRIPTION:Idag finns jag på plats på Gammalsbygårdens Gästgiveri i Gammalsby på södra Öland för att signera min debutdeckare ”Mord på Öland” – Välkommen!
URL:https://torbjornpalmberg.se/event/boksignering-gammalsbygardens-gastgiveri-pa-oland/
LOCATION:Gammalsbygårdens Gästgiveri Öland\, Gammalsby 114\, Degerhamn\, 38664
CATEGORIES:På gång
ATTACH;FMTTYPE=image/jpeg:https://torbjornpalmberg.se/wp-content/uploads/2026/03/2023-05-08-20.01.58-scaled.jpg
END:VEVENT
BEGIN:VEVENT
DTSTART;TZID=Europe/Paris:20260426T120000
DTEND;TZID=Europe/Paris:20260426T140000
DTSTAMP:20260420T122943
CREATED:20260324T143211Z
LAST-MODIFIED:20260409T071656Z
UID:5112-1777204800-1777212000@torbjornpalmberg.se
SUMMARY:Boksignering – Ölands Söderbönor i Mörbylånga
DESCRIPTION:Idag finns jag på plats på Ölands Söderbönor i Mörbylånga på Öland för att signera min debutdeckare ”Mord på Öland” – Välkommen!
URL:https://torbjornpalmberg.se/event/boksignering-olands-soderbonor-morbylanga/
LOCATION:Ölands Söderbönor\, Västerlånggatan 6\, Mörbylånga\, 38650
CATEGORIES:På gång
ATTACH;FMTTYPE=image/png:https://torbjornpalmberg.se/wp-content/uploads/2026/03/Skarmavbild-2026-03-24-kl.-15.23.04-scaled.png
END:VEVENT
END:VCALENDAR