BEGIN:VCALENDAR
VERSION:2.0
PRODID:-//Torbjörn Palmberg - ECPv6.15.20//NONSGML v1.0//EN
CALSCALE:GREGORIAN
METHOD:PUBLISH
X-WR-CALNAME:Torbjörn Palmberg
X-ORIGINAL-URL:https://torbjornpalmberg.se
X-WR-CALDESC:Händelser för Torbjörn Palmberg
REFRESH-INTERVAL;VALUE=DURATION:PT1H
X-Robots-Tag:noindex
X-PUBLISHED-TTL:PT1H
BEGIN:VTIMEZONE
TZID:Europe/Paris
BEGIN:DAYLIGHT
TZOFFSETFROM:+0100
TZOFFSETTO:+0200
TZNAME:CEST
DTSTART:20250330T010000
END:DAYLIGHT
BEGIN:STANDARD
TZOFFSETFROM:+0200
TZOFFSETTO:+0100
TZNAME:CET
DTSTART:20251026T010000
END:STANDARD
BEGIN:DAYLIGHT
TZOFFSETFROM:+0100
TZOFFSETTO:+0200
TZNAME:CEST
DTSTART:20260329T010000
END:DAYLIGHT
BEGIN:STANDARD
TZOFFSETFROM:+0200
TZOFFSETTO:+0100
TZNAME:CET
DTSTART:20261025T010000
END:STANDARD
BEGIN:DAYLIGHT
TZOFFSETFROM:+0100
TZOFFSETTO:+0200
TZNAME:CEST
DTSTART:20270328T010000
END:DAYLIGHT
BEGIN:STANDARD
TZOFFSETFROM:+0200
TZOFFSETTO:+0100
TZNAME:CET
DTSTART:20271031T010000
END:STANDARD
END:VTIMEZONE
BEGIN:VEVENT
DTSTART;TZID=Europe/Paris:20260613T110000
DTEND;TZID=Europe/Paris:20260613T130000
DTSTAMP:20260420T170424
CREATED:20260408T090129Z
LAST-MODIFIED:20260410T120014Z
UID:5976-1781348400-1781355600@torbjornpalmberg.se
SUMMARY:Boksignering – Akademibokhandeln Alingsås
DESCRIPTION:Idag finns jag på plats i Akademibokhandeln i Alingsås för att signera min debutdeckare ”Mord på Öland” – Välkommen!
URL:https://torbjornpalmberg.se/event/boksignering-akademibokhandel-i-alingsas/
LOCATION:Akademibokhandeln Alingsås\, Stora Torget 2\, Alingsås
ATTACH;FMTTYPE=image/jpeg:https://torbjornpalmberg.se/wp-content/uploads/2026/04/Akademibokhandeln-Alingsas.jpg
END:VEVENT
END:VCALENDAR